BEGIN:VCALENDAR
VERSION:2.0
PRODID:-//Resource Center - ECPv6.15.20//NONSGML v1.0//EN
CALSCALE:GREGORIAN
METHOD:PUBLISH
X-WR-CALNAME:Resource Center
X-ORIGINAL-URL:https://myresourcecenter.org
X-WR-CALDESC:Events for Resource Center
REFRESH-INTERVAL;VALUE=DURATION:PT1H
X-Robots-Tag:noindex
X-PUBLISHED-TTL:PT1H
BEGIN:VTIMEZONE
TZID:UTC
BEGIN:STANDARD
TZOFFSETFROM:+0000
TZOFFSETTO:+0000
TZNAME:UTC
DTSTART:20260101T000000
END:STANDARD
END:VTIMEZONE
BEGIN:VEVENT
DTSTART;TZID=UTC:20270324T180000
DTEND;TZID=UTC:20270324T191500
DTSTAMP:20260421T052541
CREATED:20260304T190106Z
LAST-MODIFIED:20260304T190106Z
UID:10006987-1805911200-1805915700@myresourcecenter.org
SUMMARY:Adult Gender Affirming Virtual Support Group
DESCRIPTION:A welcoming virtual space for gender‑diverse adults to connect\, share\, and receive affirming support in community. \n\n\n\n\nWhether you’re exploring your gender identity or looking for support\, this group is here for you. Let’s come together and uplift one another in supportive community. \n*This is a virtual support group for gender diverse adults\, and out of respect for our participants\, is closed to professional/student observers and allies.
URL:https://myresourcecenter.org/event/adult-gender-affirming-virtual-support-group-8/2027-03-24/
LOCATION:Community Center\, 5750 Cedar Springs Rd\, Dallas\, TX\, 75235\, United States
CATEGORIES:Community Wellness
ATTACH;FMTTYPE=image/png:https://myresourcecenter.org/wp-content/uploads/2026/01/adult-virtual-ga.png
END:VEVENT
BEGIN:VEVENT
DTSTART;TZID=UTC:20270331T180000
DTEND;TZID=UTC:20270331T191500
DTSTAMP:20260421T052541
CREATED:20260304T190106Z
LAST-MODIFIED:20260304T190106Z
UID:10006988-1806516000-1806520500@myresourcecenter.org
SUMMARY:Adult Gender Affirming Virtual Support Group
DESCRIPTION:A welcoming virtual space for gender‑diverse adults to connect\, share\, and receive affirming support in community. \n\n\n\n\nWhether you’re exploring your gender identity or looking for support\, this group is here for you. Let’s come together and uplift one another in supportive community. \n*This is a virtual support group for gender diverse adults\, and out of respect for our participants\, is closed to professional/student observers and allies.
URL:https://myresourcecenter.org/event/adult-gender-affirming-virtual-support-group-8/2027-03-31/
LOCATION:Community Center\, 5750 Cedar Springs Rd\, Dallas\, TX\, 75235\, United States
CATEGORIES:Community Wellness
ATTACH;FMTTYPE=image/png:https://myresourcecenter.org/wp-content/uploads/2026/01/adult-virtual-ga.png
END:VEVENT
BEGIN:VEVENT
DTSTART;TZID=UTC:20270407T180000
DTEND;TZID=UTC:20270407T191500
DTSTAMP:20260421T052541
CREATED:20260304T190106Z
LAST-MODIFIED:20260304T190106Z
UID:10006989-1807120800-1807125300@myresourcecenter.org
SUMMARY:Adult Gender Affirming Virtual Support Group
DESCRIPTION:A welcoming virtual space for gender‑diverse adults to connect\, share\, and receive affirming support in community. \n\n\n\n\nWhether you’re exploring your gender identity or looking for support\, this group is here for you. Let’s come together and uplift one another in supportive community. \n*This is a virtual support group for gender diverse adults\, and out of respect for our participants\, is closed to professional/student observers and allies.
URL:https://myresourcecenter.org/event/adult-gender-affirming-virtual-support-group-8/2027-04-07/
LOCATION:Community Center\, 5750 Cedar Springs Rd\, Dallas\, TX\, 75235\, United States
CATEGORIES:Community Wellness
ATTACH;FMTTYPE=image/png:https://myresourcecenter.org/wp-content/uploads/2026/01/adult-virtual-ga.png
END:VEVENT
BEGIN:VEVENT
DTSTART;TZID=UTC:20270414T180000
DTEND;TZID=UTC:20270414T191500
DTSTAMP:20260421T052541
CREATED:20260304T190106Z
LAST-MODIFIED:20260304T190106Z
UID:10006990-1807725600-1807730100@myresourcecenter.org
SUMMARY:Adult Gender Affirming Virtual Support Group
DESCRIPTION:A welcoming virtual space for gender‑diverse adults to connect\, share\, and receive affirming support in community. \n\n\n\n\nWhether you’re exploring your gender identity or looking for support\, this group is here for you. Let’s come together and uplift one another in supportive community. \n*This is a virtual support group for gender diverse adults\, and out of respect for our participants\, is closed to professional/student observers and allies.
URL:https://myresourcecenter.org/event/adult-gender-affirming-virtual-support-group-8/2027-04-14/
LOCATION:Community Center\, 5750 Cedar Springs Rd\, Dallas\, TX\, 75235\, United States
CATEGORIES:Community Wellness
ATTACH;FMTTYPE=image/png:https://myresourcecenter.org/wp-content/uploads/2026/01/adult-virtual-ga.png
END:VEVENT
BEGIN:VEVENT
DTSTART;TZID=UTC:20270421T180000
DTEND;TZID=UTC:20270421T191500
DTSTAMP:20260421T052541
CREATED:20260304T190106Z
LAST-MODIFIED:20260304T190106Z
UID:10006991-1808330400-1808334900@myresourcecenter.org
SUMMARY:Adult Gender Affirming Virtual Support Group
DESCRIPTION:A welcoming virtual space for gender‑diverse adults to connect\, share\, and receive affirming support in community. \n\n\n\n\nWhether you’re exploring your gender identity or looking for support\, this group is here for you. Let’s come together and uplift one another in supportive community. \n*This is a virtual support group for gender diverse adults\, and out of respect for our participants\, is closed to professional/student observers and allies.
URL:https://myresourcecenter.org/event/adult-gender-affirming-virtual-support-group-8/2027-04-21/
LOCATION:Community Center\, 5750 Cedar Springs Rd\, Dallas\, TX\, 75235\, United States
CATEGORIES:Community Wellness
ATTACH;FMTTYPE=image/png:https://myresourcecenter.org/wp-content/uploads/2026/01/adult-virtual-ga.png
END:VEVENT
BEGIN:VEVENT
DTSTART;TZID=UTC:20270428T180000
DTEND;TZID=UTC:20270428T191500
DTSTAMP:20260421T052541
CREATED:20260304T190106Z
LAST-MODIFIED:20260304T190106Z
UID:10006992-1808935200-1808939700@myresourcecenter.org
SUMMARY:Adult Gender Affirming Virtual Support Group
DESCRIPTION:A welcoming virtual space for gender‑diverse adults to connect\, share\, and receive affirming support in community. \n\n\n\n\nWhether you’re exploring your gender identity or looking for support\, this group is here for you. Let’s come together and uplift one another in supportive community. \n*This is a virtual support group for gender diverse adults\, and out of respect for our participants\, is closed to professional/student observers and allies.
URL:https://myresourcecenter.org/event/adult-gender-affirming-virtual-support-group-8/2027-04-28/
LOCATION:Community Center\, 5750 Cedar Springs Rd\, Dallas\, TX\, 75235\, United States
CATEGORIES:Community Wellness
ATTACH;FMTTYPE=image/png:https://myresourcecenter.org/wp-content/uploads/2026/01/adult-virtual-ga.png
END:VEVENT
END:VCALENDAR