BEGIN:VCALENDAR
VERSION:2.0
PRODID:-//Resource Center - ECPv6.15.20//NONSGML v1.0//EN
CALSCALE:GREGORIAN
METHOD:PUBLISH
X-WR-CALNAME:Resource Center
X-ORIGINAL-URL:https://myresourcecenter.org
X-WR-CALDESC:Events for Resource Center
REFRESH-INTERVAL;VALUE=DURATION:PT1H
X-Robots-Tag:noindex
X-PUBLISHED-TTL:PT1H
BEGIN:VTIMEZONE
TZID:America/Chicago
BEGIN:DAYLIGHT
TZOFFSETFROM:-0600
TZOFFSETTO:-0500
TZNAME:CDT
DTSTART:20250309T080000
END:DAYLIGHT
BEGIN:STANDARD
TZOFFSETFROM:-0500
TZOFFSETTO:-0600
TZNAME:CST
DTSTART:20251102T070000
END:STANDARD
BEGIN:DAYLIGHT
TZOFFSETFROM:-0600
TZOFFSETTO:-0500
TZNAME:CDT
DTSTART:20260308T080000
END:DAYLIGHT
BEGIN:STANDARD
TZOFFSETFROM:-0500
TZOFFSETTO:-0600
TZNAME:CST
DTSTART:20261101T070000
END:STANDARD
BEGIN:DAYLIGHT
TZOFFSETFROM:-0600
TZOFFSETTO:-0500
TZNAME:CDT
DTSTART:20270314T080000
END:DAYLIGHT
BEGIN:STANDARD
TZOFFSETFROM:-0500
TZOFFSETTO:-0600
TZNAME:CST
DTSTART:20271107T070000
END:STANDARD
END:VTIMEZONE
BEGIN:VTIMEZONE
TZID:UTC
BEGIN:STANDARD
TZOFFSETFROM:+0000
TZOFFSETTO:+0000
TZNAME:UTC
DTSTART:20250101T000000
END:STANDARD
END:VTIMEZONE
BEGIN:VEVENT
DTSTART;TZID=America/Chicago:20260415T110000
DTEND;TZID=America/Chicago:20260415T121500
DTSTAMP:20260422T211546
CREATED:20260105T185743Z
LAST-MODIFIED:20260304T193134Z
UID:10007059-1776250800-1776255300@myresourcecenter.org
SUMMARY:Adult 50+ Support Group (LGBTQ+)
DESCRIPTION:A welcoming weekly group for LGBTQ+ adults 50+ to connect\, reflect\, and find community support. \n\n\n\n\nThis group is designed specifically for LGBTQ+ adults ages 50 and above who are looking for connection\, support\, and meaningful conversation in an affirming space. \nEach meeting typically includes: \n\nA warm community check-in to see how everyone is doing\nA facilitated group discussion led by SMU Counseling Interns on a planned topic relevant to LGBTQ+ seniors\nOccasional activities or wellness exercises to support emotional well-being and connection\n\nWhether you’re navigating life transitions\, building new friendships\, reflecting on your journey\, or simply seeking community\, this space is here for you. No matter where you are on your path\, you are accepted and valued.
URL:https://myresourcecenter.org/event/adult-50-support-group-lgbtq-11/2026-04-15/
LOCATION:Resource Center – Community Center\, 5750 Cedar Springs Road\, Dallas\, TX\, 75235\, United States
CATEGORIES:Community Wellness
ATTACH;FMTTYPE=image/png:https://myresourcecenter.org/wp-content/uploads/2026/01/adult-50-support-group-1.png
END:VEVENT
BEGIN:VEVENT
DTSTART;TZID=UTC:20260415T180000
DTEND;TZID=UTC:20260415T191500
DTSTAMP:20260422T211546
CREATED:20260304T190106Z
LAST-MODIFIED:20260304T190106Z
UID:10006938-1776276000-1776280500@myresourcecenter.org
SUMMARY:Adult Gender Affirming Virtual Support Group
DESCRIPTION:A welcoming virtual space for gender‑diverse adults to connect\, share\, and receive affirming support in community. \n\n\n\n\nWhether you’re exploring your gender identity or looking for support\, this group is here for you. Let’s come together and uplift one another in supportive community. \n*This is a virtual support group for gender diverse adults\, and out of respect for our participants\, is closed to professional/student observers and allies.
URL:https://myresourcecenter.org/event/adult-gender-affirming-virtual-support-group-8/2026-04-15/
LOCATION:Community Center\, 5750 Cedar Springs Rd\, Dallas\, TX\, 75235\, United States
CATEGORIES:Community Wellness
ATTACH;FMTTYPE=image/png:https://myresourcecenter.org/wp-content/uploads/2026/01/adult-virtual-ga.png
END:VEVENT
BEGIN:VEVENT
DTSTART;TZID=UTC:20260415T180000
DTEND;TZID=UTC:20260415T191500
DTSTAMP:20260422T211546
CREATED:20260320T031149Z
LAST-MODIFIED:20260320T031149Z
UID:10007158-1776276000-1776280500@myresourcecenter.org
SUMMARY:Adult Gender Affirming In Person Support Group
DESCRIPTION:A welcoming space for gender‑diverse adults to connect\, share\, and receive affirming support in community. \n\n\n\n\nWhether you’re exploring your gender identity or looking for support\, this group is here for you. Let’s come together and uplift one another in supportive community. \n*This is an in person group for gender diverse adults\, and out of respect for our participants\, is closed to professional/student observers and allies.
URL:https://myresourcecenter.org/event/adult-gender-affirming-in-person-support-group/2026-04-15/
LOCATION:Community Center\, 5750 Cedar Springs Rd\, Dallas\, TX\, 75235\, United States
ATTACH;FMTTYPE=image/png:https://myresourcecenter.org/wp-content/uploads/2026/03/ga-in-person-weekly.png
END:VEVENT
BEGIN:VEVENT
DTSTART;TZID=UTC:20260415T190000
DTEND;TZID=UTC:20260415T210000
DTSTAMP:20260422T211546
CREATED:20260320T025656Z
LAST-MODIFIED:20260320T025824Z
UID:10007154-1776279600-1776286800@myresourcecenter.org
SUMMARY:Youth Support Group (LGBTQ+)
DESCRIPTION:A place for youth to connect\, share\, and support each other in a safe LGBTQ+ space. \n\n\n\n\nJoin us at the Resource Center – Community Center on April 15\, 2026 at 7:00 PM for a supportive and welcoming space. This group is all about supporting youth exploring LGBTQ+ topics that come up in their lives. This group will be facilitated by a Licensed Social Worker to help guide youth through topics and questions that come up. Everyone’s welcome\, so bring your true self and let’s build community together! \nSocial Connection starts at 5 p.m.
URL:https://myresourcecenter.org/event/youth-support-group-lgbtq/
LOCATION:Community Center\, 5750 Cedar Springs Rd\, Dallas\, TX\, 75235\, United States
ATTACH;FMTTYPE=image/png:https://myresourcecenter.org/wp-content/uploads/2026/03/youth-support-group.png
END:VEVENT
END:VCALENDAR